BEGIN:VCALENDAR
VERSION:2.0
PRODID:-//RI Continuum of Care - ECPv6.15.18//NONSGML v1.0//EN
CALSCALE:GREGORIAN
METHOD:PUBLISH
X-WR-CALNAME:RI Continuum of Care
X-ORIGINAL-URL:https://continuumofcareri.com
X-WR-CALDESC:Events for RI Continuum of Care
REFRESH-INTERVAL;VALUE=DURATION:PT1H
X-Robots-Tag:noindex
X-PUBLISHED-TTL:PT1H
BEGIN:VTIMEZONE
TZID:UTC
BEGIN:STANDARD
TZOFFSETFROM:+0000
TZOFFSETTO:+0000
TZNAME:UTC
DTSTART:20240101T000000
END:STANDARD
END:VTIMEZONE
BEGIN:VEVENT
DTSTART;TZID=UTC:20250407T150000
DTEND;TZID=UTC:20250407T160000
DTSTAMP:20260421T175457
CREATED:20250114T152032Z
LAST-MODIFIED:20250114T152032Z
UID:10000666-1744038000-1744041600@continuumofcareri.com
SUMMARY:Management Committee Meeting
DESCRIPTION:The meeting will be held at the main office of the Corporation\, 44 Washington Street\, Providence\, RI 02903\, Conference Boardroom. The meeting can also be accessed by interested members of the public via telephone conference call. \nDial the meeting access number:       1-866-225-4944\, then press #\nEnter the conference ID number:       4011341\, then press #
URL:https://continuumofcareri.com/event/management-committee-meeting-24/
LOCATION:RI
END:VEVENT
END:VCALENDAR