BEGIN:VCALENDAR
VERSION:2.0
PRODID:-//RI Continuum of Care - ECPv6.15.18//NONSGML v1.0//EN
CALSCALE:GREGORIAN
METHOD:PUBLISH
X-WR-CALNAME:RI Continuum of Care
X-ORIGINAL-URL:https://continuumofcareri.com
X-WR-CALDESC:Events for RI Continuum of Care
REFRESH-INTERVAL;VALUE=DURATION:PT1H
X-Robots-Tag:noindex
X-PUBLISHED-TTL:PT1H
BEGIN:VTIMEZONE
TZID:UTC
BEGIN:STANDARD
TZOFFSETFROM:+0000
TZOFFSETTO:+0000
TZNAME:UTC
DTSTART:20240101T000000
END:STANDARD
END:VTIMEZONE
BEGIN:VEVENT
DTSTART;TZID=UTC:20250612T113000
DTEND;TZID=UTC:20250612T130000
DTSTAMP:20260425T130539
CREATED:20250502T193752Z
LAST-MODIFIED:20250506T202244Z
UID:10000705-1749727800-1749733200@continuumofcareri.com
SUMMARY:Motivational Interviewing: Helping People Change and Grow
DESCRIPTION:Intended audience: Anyone who works in the homeless response system to attend\, particularly anyone providing direct services with clients\, and their supervisors. \nDescription: Motivational Interviewing (MI) is “a particular way of talking with people about change and growth to strengthen their own motivation and commitment.” This 90-minute webcast will provide an overview of the core concepts and key ingredients of MI as they apply to providing housing and support services. \nThe training will be held virtually over Microsoft Teams. \nClick Here to Register
URL:https://continuumofcareri.com/event/motivational-interviewing/
LOCATION:Virtual
CATEGORIES:RI Homeless Response System Training Program 2025
END:VEVENT
END:VCALENDAR