BEGIN:VCALENDAR
VERSION:2.0
PRODID:-//RI Continuum of Care - ECPv6.15.18//NONSGML v1.0//EN
CALSCALE:GREGORIAN
METHOD:PUBLISH
X-ORIGINAL-URL:https://continuumofcareri.com
X-WR-CALDESC:Events for RI Continuum of Care
REFRESH-INTERVAL;VALUE=DURATION:PT1H
X-Robots-Tag:noindex
X-PUBLISHED-TTL:PT1H
BEGIN:VTIMEZONE
TZID:UTC
BEGIN:STANDARD
TZOFFSETFROM:+0000
TZOFFSETTO:+0000
TZNAME:UTC
DTSTART:20240101T000000
END:STANDARD
END:VTIMEZONE
BEGIN:VEVENT
DTSTART;TZID=UTC:20251201T100000
DTEND;TZID=UTC:20251201T110000
DTSTAMP:20260425T114438
CREATED:20250604T140059Z
LAST-MODIFIED:20250604T140059Z
UID:10000834-1764583200-1764586800@continuumofcareri.com
SUMMARY:Equity Committee Meeting
DESCRIPTION:The Equity Committee recognizes that people served by CoC programs have different starting points and needs. Some people need more or different resources and support than others. This committee develops resources\, policies\, and procedures to support the RICOC\, its programs\, and its recipient agencies in meeting the needs of all people they serve. \nContact Information:  \n\nCo-Chair – Kelly Henry\, khenry@sojournerri.org\nCo-Chair – Faith Bessette\, fbessette@sojournerri.org\n\nHow to Join\nClick here to join the meeting over Microsoft Teams\nMeeting ID: 287 476 486 089\nPasscode: s4tbyf
URL:https://continuumofcareri.com/event/equity-committee-meeting/2025-12-01/
LOCATION:RI
CATEGORIES:RICoC Standing Committees
END:VEVENT
BEGIN:VEVENT
DTSTART;TZID=UTC:20251201T150000
DTEND;TZID=UTC:20251201T163000
DTSTAMP:20260425T114438
CREATED:20251201T131349Z
LAST-MODIFIED:20251201T131801Z
UID:10001529-1764601200-1764606600@continuumofcareri.com
SUMMARY:E-SNAPS Training for New and Renewal Grants
DESCRIPTION:This session will provide an overview of the E-SNAPS federal applications system. Individuals will learn how to submit a New and Renewal Grant in response to the FY2025 CoC NOFO. \nClick Here to Join the Meeting \nMeeting ID: 215 229 812 325 83\nPasscode: 7Wc3Zg2n
URL:https://continuumofcareri.com/event/e-snaps-training-for-new-and-renewal-grants/
LOCATION:Virtual
CATEGORIES:RI Homeless Response System Training Program 2025
END:VEVENT
END:VCALENDAR