BEGIN:VCALENDAR
VERSION:2.0
PRODID:-//RI Continuum of Care - ECPv6.15.18//NONSGML v1.0//EN
CALSCALE:GREGORIAN
METHOD:PUBLISH
X-WR-CALNAME:RI Continuum of Care
X-ORIGINAL-URL:https://continuumofcareri.com
X-WR-CALDESC:Events for RI Continuum of Care
REFRESH-INTERVAL;VALUE=DURATION:PT1H
X-Robots-Tag:noindex
X-PUBLISHED-TTL:PT1H
BEGIN:VTIMEZONE
TZID:UTC
BEGIN:STANDARD
TZOFFSETFROM:+0000
TZOFFSETTO:+0000
TZNAME:UTC
DTSTART:20240101T000000
END:STANDARD
END:VTIMEZONE
BEGIN:VEVENT
DTSTART;TZID=UTC:20251205T100000
DTEND;TZID=UTC:20251205T120000
DTSTAMP:20260425T133848
CREATED:20251201T132025Z
LAST-MODIFIED:20251201T132025Z
UID:10001532-1764928800-1764936000@continuumofcareri.com
SUMMARY:RICoC Local Competition Office Hours
DESCRIPTION:This session is dedicated time for current grantees and potential applicants to meet with the RICoC Planning Team to ask questions\, seek guidance\, or discuss any aspect of the application process. \nClick Here to Join the Meeting \nMeeting ID: 251 322 188 458 83\nPasscode: Yi3r2Pj9
URL:https://continuumofcareri.com/event/ricoc-local-competition-office-hours/
LOCATION:Virtual
CATEGORIES:RI Homeless Response System Training Program 2025
END:VEVENT
END:VCALENDAR