BEGIN:VCALENDAR
VERSION:2.0
PRODID:-//RI Continuum of Care - ECPv6.15.18//NONSGML v1.0//EN
CALSCALE:GREGORIAN
METHOD:PUBLISH
X-ORIGINAL-URL:https://continuumofcareri.com
X-WR-CALDESC:Events for RI Continuum of Care
REFRESH-INTERVAL;VALUE=DURATION:PT1H
X-Robots-Tag:noindex
X-PUBLISHED-TTL:PT1H
BEGIN:VTIMEZONE
TZID:UTC
BEGIN:STANDARD
TZOFFSETFROM:+0000
TZOFFSETTO:+0000
TZNAME:UTC
DTSTART:20240101T000000
END:STANDARD
END:VTIMEZONE
BEGIN:VEVENT
DTSTART;TZID=UTC:20251110T100000
DTEND;TZID=UTC:20251110T110000
DTSTAMP:20260419T215444
CREATED:20250604T142607Z
LAST-MODIFIED:20250604T173536Z
UID:10001396-1762768800-1762772400@continuumofcareri.com
SUMMARY:Pipeline Committee Meeting
DESCRIPTION:The Pipeline Committee works to strengthen the RICoC’s collaboration and connection with other systems to increase non-CoC or ESG resource investment in housing and services for households in Rhode Island experiencing homelessness. \nContact Information:\nCo-Chair – Michelle Brophy\, brophy@bhddh.ri.gov\nCo-Chair—Charlie Thomas-Davison\, ThomasDavison@wdchoc.org \nHow to Join\nClick here to join the meeting on Microsoft Teams\nMeeting ID: 298 655 474 736\nPasscode: gG7Z7Pk9
URL:https://continuumofcareri.com/event/pipeline-committee-meeting/2025-11-10/
CATEGORIES:RICoC Standing Committees
END:VEVENT
BEGIN:VEVENT
DTSTART;TZID=UTC:20251111T103000
DTEND;TZID=UTC:20251111T120000
DTSTAMP:20260419T215444
CREATED:20250604T142046Z
LAST-MODIFIED:20250604T173827Z
UID:10000955-1762857000-1762862400@continuumofcareri.com
SUMMARY:HMIS and System Performance Measures Committee Meeting
DESCRIPTION:The HMIS Committee plays a key role in developing performance measures and goals to evaluate Rhode Island’s overall success in ending homelessness in the State using HUD guidance. The HMIS Committee creates and updates\, as needed\, a privacy plan\, security plan\, and data quality plan for the HMIS\, as well as all other policies and procedures required by regulations and notices issued by HUD. \nContact Information:  \n\nChair – Eric Hirsch – ehirsch@providence.edu\nStaff\, RICEH (HMIS Lead) – Maria Vargas – mvargas@rihomeless.org\n\nHow to Join\nClick here to join the meeting over Zoom\nUS Meeting ID: 819 0726 9719
URL:https://continuumofcareri.com/event/hmis-and-system-performance-measures-committee-meeting/2025-11-11/
CATEGORIES:RICoC Standing Committees
END:VEVENT
BEGIN:VEVENT
DTSTART;TZID=UTC:20251112T130000
DTEND;TZID=UTC:20251112T143000
DTSTAMP:20260419T215444
CREATED:20250604T135306Z
LAST-MODIFIED:20250604T135412Z
UID:10000714-1762952400-1762957800@continuumofcareri.com
SUMMARY:Coordinated Entry Implementation Committee Meeting
DESCRIPTION:The Coordinated Entry Implementation Committee collaborates with the Collaborative Applicant\, HMIS Lead\, CES Lead\, and service providers to solicit feedback from stakeholders on the RI Statewide Coordinated Entry System (CES). The committee also monitors key performance indicators of the CE system and recommends actions to support its implementation\, refinement\, and ongoing performance. \n\nCo-Chair—RICoC Board member\, Michelle Taylor\, mtaylor@communitycareri.org\nCo-Chair—Benjamin Darby\, darby@wdchoc.org\nStaff\, RICEH (CES Lead) – Jennifer Barrera\, jennifer@rihomeless.org\n\nHow to Join Meeting\nClick here to join the meeting over Zoom: https://us06web.zoom.us/j/84722174350\nMeeting ID: 847 2217 4350 \n 
URL:https://continuumofcareri.com/event/coordinated-entry-implementation-committee-meeting/2025-11-12/
CATEGORIES:RICoC Standing Committees
END:VEVENT
END:VCALENDAR