BEGIN:VCALENDAR
VERSION:2.0
PRODID:-//RI Continuum of Care - ECPv6.15.18//NONSGML v1.0//EN
CALSCALE:GREGORIAN
METHOD:PUBLISH
X-WR-CALNAME:RI Continuum of Care
X-ORIGINAL-URL:https://continuumofcareri.com
X-WR-CALDESC:Events for RI Continuum of Care
REFRESH-INTERVAL;VALUE=DURATION:PT1H
X-Robots-Tag:noindex
X-PUBLISHED-TTL:PT1H
BEGIN:VTIMEZONE
TZID:UTC
BEGIN:STANDARD
TZOFFSETFROM:+0000
TZOFFSETTO:+0000
TZNAME:UTC
DTSTART:20240101T000000
END:STANDARD
END:VTIMEZONE
BEGIN:VEVENT
DTSTART;TZID=UTC:20251208T100000
DTEND;TZID=UTC:20251208T110000
DTSTAMP:20260425T132813
CREATED:20250604T142607Z
LAST-MODIFIED:20250604T173536Z
UID:10001397-1765188000-1765191600@continuumofcareri.com
SUMMARY:Pipeline Committee Meeting
DESCRIPTION:The Pipeline Committee works to strengthen the RICoC’s collaboration and connection with other systems to increase non-CoC or ESG resource investment in housing and services for households in Rhode Island experiencing homelessness. \nContact Information:\nCo-Chair – Michelle Brophy\, brophy@bhddh.ri.gov\nCo-Chair—Charlie Thomas-Davison\, ThomasDavison@wdchoc.org \nHow to Join\nClick here to join the meeting on Microsoft Teams\nMeeting ID: 298 655 474 736\nPasscode: gG7Z7Pk9
URL:https://continuumofcareri.com/event/pipeline-committee-meeting/2025-12-08/
LOCATION:RI
CATEGORIES:RICoC Standing Committees
END:VEVENT
BEGIN:VEVENT
DTSTART;TZID=UTC:20251208T140000
DTEND;TZID=UTC:20251208T160000
DTSTAMP:20260425T132813
CREATED:20250925T175003Z
LAST-MODIFIED:20251107T172250Z
UID:10001525-1765202400-1765209600@continuumofcareri.com
SUMMARY:Continuum of Care Program: Annual Performance Report (APR) Requirements and Uses
DESCRIPTION:Intended Audience: Current and future recipient and subrecipient agencies of CoC Program projects who are responsible for data collection\, compilation\, and submission of the Annual Performance Report (APR) for a CoC Program project. \nDescription: During this session\, attendees will learn about HUD requirements for completing and submitting the required Annual Performance Report (APR) for a CoC Program project. Attendees will learn about the data sources\, key data elements\, and how and when to submit the APR. Staff will also review best practices for ensuring accurate and quality data is available to the project and CoC about CoC Program projects. \nThe training will be held virtually over Microsoft Teams. \n Click Here to Register
URL:https://continuumofcareri.com/event/continuum-of-care-program-annual-performance-report-apr-requirements-and-uses/
LOCATION:Virtual
CATEGORIES:RI Homeless Response System Training Program 2025
END:VEVENT
BEGIN:VEVENT
DTSTART;TZID=UTC:20251208T150000
DTEND;TZID=UTC:20251208T160000
DTSTAMP:20260425T132813
CREATED:20250114T152613Z
LAST-MODIFIED:20250114T152613Z
UID:10000673-1765206000-1765209600@continuumofcareri.com
SUMMARY:Management Committee Meeting
DESCRIPTION:The meeting will be held at the main office of the Corporation\, 44 Washington Street\, Providence\, RI 02903\, Conference Boardroom. The meeting can also be accessed by interested members of the public via telephone conference call. \nDial the meeting access number:       1-866-225-4944\, then press #\nEnter the conference ID number:       4011341\, then press #
URL:https://continuumofcareri.com/event/management-committee-meeting-31/
LOCATION:RI
END:VEVENT
BEGIN:VEVENT
DTSTART;TZID=UTC:20251209T103000
DTEND;TZID=UTC:20251209T120000
DTSTAMP:20260425T132813
CREATED:20250604T142046Z
LAST-MODIFIED:20250604T173827Z
UID:10000956-1765276200-1765281600@continuumofcareri.com
SUMMARY:HMIS and System Performance Measures Committee Meeting
DESCRIPTION:The HMIS Committee plays a key role in developing performance measures and goals to evaluate Rhode Island’s overall success in ending homelessness in the State using HUD guidance. The HMIS Committee creates and updates\, as needed\, a privacy plan\, security plan\, and data quality plan for the HMIS\, as well as all other policies and procedures required by regulations and notices issued by HUD. \nContact Information:  \n\nChair – Eric Hirsch – ehirsch@providence.edu\nStaff\, RICEH (HMIS Lead) – Maria Vargas – mvargas@rihomeless.org\n\nHow to Join\nClick here to join the meeting over Zoom\nUS Meeting ID: 819 0726 9719
URL:https://continuumofcareri.com/event/hmis-and-system-performance-measures-committee-meeting/2025-12-09/
LOCATION:RI
CATEGORIES:RICoC Standing Committees
END:VEVENT
BEGIN:VEVENT
DTSTART;TZID=UTC:20251210T130000
DTEND;TZID=UTC:20251210T143000
DTSTAMP:20260425T132813
CREATED:20250604T135306Z
LAST-MODIFIED:20250604T135412Z
UID:10000715-1765371600-1765377000@continuumofcareri.com
SUMMARY:Coordinated Entry Implementation Committee Meeting
DESCRIPTION:The Coordinated Entry Implementation Committee collaborates with the Collaborative Applicant\, HMIS Lead\, CES Lead\, and service providers to solicit feedback from stakeholders on the RI Statewide Coordinated Entry System (CES). The committee also monitors key performance indicators of the CE system and recommends actions to support its implementation\, refinement\, and ongoing performance. \n\nCo-Chair—RICoC Board member\, Michelle Taylor\, mtaylor@communitycareri.org\nCo-Chair—Benjamin Darby\, darby@wdchoc.org\nStaff\, RICEH (CES Lead) – Jennifer Barrera\, jennifer@rihomeless.org\n\nHow to Join Meeting\nClick here to join the meeting over Zoom: https://us06web.zoom.us/j/84722174350\nMeeting ID: 847 2217 4350 \n 
URL:https://continuumofcareri.com/event/coordinated-entry-implementation-committee-meeting/2025-12-10/
LOCATION:RI
CATEGORIES:RICoC Standing Committees
END:VEVENT
END:VCALENDAR