BEGIN:VCALENDAR
VERSION:2.0
PRODID:-//RI Continuum of Care - ECPv6.15.18//NONSGML v1.0//EN
CALSCALE:GREGORIAN
METHOD:PUBLISH
X-ORIGINAL-URL:https://continuumofcareri.com
X-WR-CALDESC:Events for RI Continuum of Care
REFRESH-INTERVAL;VALUE=DURATION:PT1H
X-Robots-Tag:noindex
X-PUBLISHED-TTL:PT1H
BEGIN:VTIMEZONE
TZID:UTC
BEGIN:STANDARD
TZOFFSETFROM:+0000
TZOFFSETTO:+0000
TZNAME:UTC
DTSTART:20250101T000000
END:STANDARD
END:VTIMEZONE
BEGIN:VEVENT
DTSTART;TZID=UTC:20260121T100000
DTEND;TZID=UTC:20260121T110000
DTSTAMP:20260425T114509
CREATED:20260106T193230Z
LAST-MODIFIED:20260106T193303Z
UID:10001533-1768989600-1768993200@continuumofcareri.com
SUMMARY:CWL Partner Training
DESCRIPTION:Join RIHousing’s Leased Housing Team for a training on the Centralized Wait List. \nClick Here to Register
URL:https://continuumofcareri.com/event/cwl-partner-training/
LOCATION:Virtual
CATEGORIES:RICoC Calendar
END:VEVENT
END:VCALENDAR